BEGIN:VCALENDAR
VERSION:2.0
PRODID:-//Vanessa Rubin - ECPv6.3.3.1//NONSGML v1.0//EN
CALSCALE:GREGORIAN
METHOD:PUBLISH
X-ORIGINAL-URL:https://www.vanessarubin.com
X-WR-CALDESC:Events for Vanessa Rubin
REFRESH-INTERVAL;VALUE=DURATION:PT1H
X-Robots-Tag:noindex
X-PUBLISHED-TTL:PT1H
BEGIN:VTIMEZONE
TZID:America/New_York
BEGIN:DAYLIGHT
TZOFFSETFROM:-0500
TZOFFSETTO:-0400
TZNAME:EDT
DTSTART:20170312T070000
END:DAYLIGHT
BEGIN:STANDARD
TZOFFSETFROM:-0400
TZOFFSETTO:-0500
TZNAME:EST
DTSTART:20171105T060000
END:STANDARD
END:VTIMEZONE
BEGIN:VEVENT
DTSTART;TZID=America/New_York:20170107T210000
DTEND;TZID=America/New_York:20170107T220000
DTSTAMP:20260422T064210
CREATED:20161117T191017Z
LAST-MODIFIED:20161117T191230Z
UID:958-1483822800-1483826400@www.vanessarubin.com
SUMMARY:Sista's Place\, Brooklyn\, NY
DESCRIPTION:Vanessa Rubin. 2 shows 9 PM & 10:30 PM
URL:https://www.vanessarubin.com/upcoming-events/sistas-place-brooklyn-ny/
LOCATION:Sista’s Place\, 456 Nostrand Ave\, Brooklyn\, NY\, United States
CATEGORIES:Show Times
END:VEVENT
END:VCALENDAR